﻿
BEGIN:VCALENDAR
VERSION:2.0
PRODID:-//LearnPHP.co//NONSGML بطولة سكوتسديل للخيول العربية الأصيلة 2015//EN
METHOD:REQUEST
BEGIN:VEVENT
UID:20260422T154825-705647733-learnphp.co
DTSTAMP:20260422T154825
DTSTART:20150212T050000Z
DTEND:20150222T050000Z
LOCATION:ويست وورلد
SUMMARY:بطولة سكوتسديل للخيول العربية الأصيلة 2015
DESCRIPTION: 
END:VEVENT
END:VCALENDAR
